Workbook
Name _ftnref1: 'Dashboard für Kennzahlen 2026'!$D$36
Name _ftnref2: 'Dashboard für Kennzahlen 2026'!$D$46
Name Plausibilität: 'Dashboard für Kennzahlen 2026'!$L$115:$L$116
Name Studientyp: Studien!$B$72:$B$74

Sheet Dashboard für Kennzahlen 2026
C1: Brustzentrum: | E1: =VALUE(Kliniknummer!C2) -> 0
A3: # | B3: Indikator | C3: Definition | D3: Min | E3: Einheit | F3: Zähler | G3: Nenner | H3: Wert | I3: KTM | J3: Fehlermeldung / Hinweis | K3: bei Abweichung kurze Begründung angeben | L3: Entscheid Plausibilität
A4: 1a | B4: Neue Brustkrebsfälle | C4: Anzahl neue Brustkrebsfälle (Tumore / Rezidive) | D4: n/a | E4: Anzahl Patientinnen | F4: AA_Output:FilterSetting_ID=9027;Field=Anzahl | J4: =IF(ISBLANK(F4)=TRUE,"",IF(F4=0,"Bitte Wert grösser 0 angeben","")) | K4: =IF(J4>"","Begründung angeben","")
D5: 125 | E5: Anzahl neue Brustkrebsfälle | F5: AA_Output:FilterSetting_ID=9028;Field=Total | J5: =IF(F5>0,IF(F5<D5,"Minimal-Wert nicht erreicht",""),"")
D6: n/a | E6: davon Rezidive | F6: AA_Output:FilterSetting_ID=9029;Field=Anzahl | G6: =IF(ISBLANK(F5)=TRUE,"",F5) -> AA_Output:FilterSetting_ID=9028;Field=Total | H6: =IF(ISBLANK(F6),"",F6/G6) -> #VALUE!
D7: n/a | E7: davon intern abgeklärte Fälle | F7: AA_Output:FilterSetting_ID=9030;Field=Total | G7: =IF(ISBLANK(F5)=TRUE,"",F5) -> AA_Output:FilterSetting_ID=9028;Field=Total | H7: =IF(ISBLANK(F7),"",F7/G7) -> #VALUE! | K7: =IF(J7>"","Begründung angeben","")
D8: n/a | E8: davon bereits extern abgeklärte Fälle | F8: =IF(F5=0,0,F5-F7) -> #VALUE! | G8: =IF(ISBLANK(F5)=TRUE,"",F5) -> AA_Output:FilterSetting_ID=9028;Field=Total | H8: =IF(F8=0,"",F8/G8) -> #VALUE! | K8: =IF(J8>"","Begründung angeben","")
A9: 1b | B9: Operative Behandlungen von Erstkarzinomen | C9: Anzahl operierte Erstkarzinome / Rezidive | D9: n/a | E9: Anzahl der Primäroperationen von neuen Brustkrebsfällen | F9: AA_Output:FilterSetting_ID=915;Field=Anzahl;Code=1 | G9: =IF(F5*F9=0,"",F5) -> #VALUE! | H9: =IF(ISBLANK(F9),"",F9/G9) -> #VALUE!
A10: 2 | C10: Brustchirurgische Eingriffe pro KTM an Erstkarzinomen / Rezidiven der Brust pro Jahr | D10: 30 | E10: Anzahl Eingriffe pro KTM | F10: =IF('Anzahl Eingriffe pro KTM'!C4="","",'Anzahl Eingriffe pro KTM'!E4) | I10: =IF('Anzahl Eingriffe pro KTM'!C4="","",'Anzahl Eingriffe pro KTM'!C4) | J10: =IF(_xlfn.NUMBERVALUE(F10)>0,IF(_xlfn.NUMBERVALUE(F10)<$D$10,"Minimal-Wert nicht erreicht",""),"") | K10: =IF(J10>"","Begründung angeben","")
F11: =IF('Anzahl Eingriffe pro KTM'!C5="","",'Anzahl Eingriffe pro KTM'!E5) | I11: =IF('Anzahl Eingriffe pro KTM'!C5="","",'Anzahl Eingriffe pro KTM'!C5) | J11: =IF(_xlfn.NUMBERVALUE(F11)>0,IF(_xlfn.NUMBERVALUE(F11)<$D$10,"Minimal-Wert nicht erreicht",""),"") | K11: =IF(J11>"","Begründung angeben","")
F12: =IF('Anzahl Eingriffe pro KTM'!C6="","",'Anzahl Eingriffe pro KTM'!E6) | I12: =IF('Anzahl Eingriffe pro KTM'!C6="","",'Anzahl Eingriffe pro KTM'!C6) | J12: =IF(_xlfn.NUMBERVALUE(F12)>0,IF(_xlfn.NUMBERVALUE(F12)<$D$10,"Minimal-Wert nicht erreicht",""),"") | K12: =IF(J12>"","Begründung angeben","")
F13: =IF('Anzahl Eingriffe pro KTM'!C7="","",'Anzahl Eingriffe pro KTM'!E7) | I13: =IF('Anzahl Eingriffe pro KTM'!C7="","",'Anzahl Eingriffe pro KTM'!C7) | J13: =IF(_xlfn.NUMBERVALUE(F13)>0,IF(_xlfn.NUMBERVALUE(F13)<$D$10,"Minimal-Wert nicht erreicht",""),"") | K13: =IF(J13>"","Begründung angeben","")
F14: =IF('Anzahl Eingriffe pro KTM'!C8="","",'Anzahl Eingriffe pro KTM'!E8) | I14: =IF('Anzahl Eingriffe pro KTM'!C8="","",'Anzahl Eingriffe pro KTM'!C8) | J14: =IF(_xlfn.NUMBERVALUE(F14)>0,IF(_xlfn.NUMBERVALUE(F14)<$D$10,"Minimal-Wert nicht erreicht",""),"") | K14: =IF(J14>"","Begründung angeben","")
F15: =IF('Anzahl Eingriffe pro KTM'!C9="","",'Anzahl Eingriffe pro KTM'!E9) | I15: =IF('Anzahl Eingriffe pro KTM'!C9="","",'Anzahl Eingriffe pro KTM'!C9) | J15: =IF(_xlfn.NUMBERVALUE(F15)>0,IF(_xlfn.NUMBERVALUE(F15)<$D$10,"Minimal-Wert nicht erreicht",""),"") | K15: =IF(J15>"","Begründung angeben","")
F16: =IF('Anzahl Eingriffe pro KTM'!C10="","",'Anzahl Eingriffe pro KTM'!E10) | I16: =IF('Anzahl Eingriffe pro KTM'!C10="","",'Anzahl Eingriffe pro KTM'!C10) | J16: =IF(_xlfn.NUMBERVALUE(F16)>0,IF(_xlfn.NUMBERVALUE(F16)<$D$10,"Minimal-Wert nicht erreicht",""),"") | K16: =IF(J16>"","Begründung angeben","")
F17: =IF('Anzahl Eingriffe pro KTM'!C11="","",'Anzahl Eingriffe pro KTM'!E11) | I17: =IF('Anzahl Eingriffe pro KTM'!C11="","",'Anzahl Eingriffe pro KTM'!C11) | J17: =IF(_xlfn.NUMBERVALUE(F17)>0,IF(_xlfn.NUMBERVALUE(F17)<$D$10,"Minimal-Wert nicht erreicht",""),"") | K17: =IF(J17>"","Begründung angeben","")
F18: =IF('Anzahl Eingriffe pro KTM'!C12="","",'Anzahl Eingriffe pro KTM'!E12) | I18: =IF('Anzahl Eingriffe pro KTM'!C12="","",'Anzahl Eingriffe pro KTM'!C12) | J18: =IF(_xlfn.NUMBERVALUE(F18)>0,IF(_xlfn.NUMBERVALUE(F18)<$D$10,"Minimal-Wert nicht erreicht",""),"") | K18: =IF(J18>"","Begründung angeben","")
D19: n/a | E19: Anzahl Eingriffe der KTM total | F19: =IFERROR(VLOOKUP("Total",'Anzahl Eingriffe pro KTM'!D:F,2,0),"") | K19: =IF(J19>"","Begründung angeben (Diskrepanz kann durch unterschiedliche Zählweise (1b = Erstkonsultation, 2 = Operationsdatum) erklärt werden)","")
A20: 3 | B20: Plastisch rekonstruktive Eingriffe an der Brust | C20: Plastische Chirurgie/onkoplastische Chirurgie: Anzahl plastisch rekonstruktive Eingriffe an der Brust pro KTM | D20: 30 | E20: Anzahl Eingriffe am Brustzentrum insgesamt | J20: =IF(F20>0,IF(F20<D20,"Minimal-Wert nicht erreicht",""),"") | K20: =IF(J20>"","Begründung angeben","")
D21: 30 | E21: Anzahl Eingriffe pro "Erstem KTM" am Brustzentrum + anderen Orten | J21: =IF(F21>0,IF(F21<D21,"Minimal-Wert nicht erreicht",""),"") | K21: =IF(J21>"","Begründung angeben","")
J22: =IF(F22>0,IF(F22<D21,"Minimal-Wert nicht erreicht",""),"") | K22: =IF(J22>"","Begründung angeben","")
J23: =IF(F23>0,IF(F23<D21,"Minimal-Wert nicht erreicht",""),"") | K23: =IF(J23>"","Begründung angeben","")
J24: =IF(F24>0,IF(F24<D21,"Minimal-Wert nicht erreicht",""),"") | K24: =IF(J24>"","Begründung angeben","")
D25: 30 | E25: Anzahl Eingriffe pro "Weiterem KTM in Plastischer Funktion“ am BZ + anderen Orten | J25: =IF(F25>0,IF(F25<D25,"Minimal-Wert nicht erreicht",""),"") | K25: =IF(J25>"","Begründung angeben","")
J26: =IF(F26>0,IF(F26<D25,"Minimal-Wert nicht erreicht",""),"") | K26: =IF(J26>"","Begründung angeben","")
J27: =IF(F27>0,IF(F27<D25,"Minimal-Wert nicht erreicht",""),"") | K27: =IF(J27>"","Begründung angeben","")
J28: =IF(F28>0,IF(F28<D25,"Minimal-Wert nicht erreicht",""),"") | K28: =IF(J28>"","Begründung angeben","")
D29: 10 | E29: Anzahl Eingriffe mit autologem Gewebetransfer am Brustzentrum insgesamt | J29: =IF(F29>0,IF(F29<D29,"Minimal-Wert nicht erreicht",""),"") | K29: =IF(J29>"","Begründung angeben","")
D30: 10 | E30: Anzahl Eingriffe mit autologem Gewebetransfer pro KTM am Brustzentrum | J30: =IF(F30>0,IF(F30<D30,"Minimal-Wert nicht erreicht",""),"") | K30: =IF(J30>"","Begründung angeben","")
J31: =IF(F31>0,IF(F31<D30,"Minimal-Wert nicht erreicht",""),"") | K31: =IF(J31>"","Begründung angeben","")
J32: =IF(F32>0,IF(F32<D30,"Minimal-Wert nicht erreicht",""),"") | K32: =IF(J32>"","Begründung angeben","")
J33: =IF(F33>0,IF(F33<D30,"Minimal-Wert nicht erreicht",""),"") | K33: =IF(J33>"","Begründung angeben","")
A34: 4 | C34: Anteil Fälle, bei welchen Brusttumore vor der Exzision ab BI-RADS 3 vorgängig mittels Stanzbiopsie gesichert wurden. | D34: 0.98 | E34: Anzahl BIRADS ≥3 Befunde mit vorgängiger Biopsie | F34: AA_Output:FilterSetting_ID=13895;Field=Total | G34: AA_Output:FilterSetting_ID=13894;Field=Total | H34: =IF(G34=0,"",F34/G34) -> #VALUE! | J34: =IF(ISNUMBER(H34),IF(H34<=$D$34,"Minimal-Wert nicht erreicht",""),"") -> #VALUE! | K34: =IF(J34>"","Begründung angeben","") -> #VALUE!
A35: 5 | B35: Befundungen in der Pathologie | C35: Pathologie: Anzahl befundeter Mammaproben | D35: n/a | E35: Anzahl Befundungen am Brustzentrum total
D36: 250 | E36: Anzahl Befundungen pro KTM | J36: =IF(F36>0,IF(F36<D36,"Minimal-Wert nicht erreicht",""),"") | K36: =IF(J36>"","Begründung angeben","")
J37: =IF(F37>0,IF(F37<D36,"Minimal-Wert nicht erreicht",""),"") | K37: =IF(J37>"","Begründung angeben","")
J38: =IF(F38>0,IF(F38<D36,"Minimal-Wert nicht erreicht",""),"") | K38: =IF(J38>"","Begründung angeben","")
J39: =IF(F39>0,IF(F39<D36,"Minimal-Wert nicht erreicht",""),"") | K39: =IF(J39>"","Begründung angeben","")
J40: =IF(F40>0,IF(F40<D36,"Minimal-Wert nicht erreicht",""),"") | K40: =IF(J40>"","Begründung angeben","")
J41: =IF(F41>0,IF(F41<D36,"Minimal-Wert nicht erreicht",""),"") | K41: =IF(J41>"","Begründung angeben","")
J42: =IF(F42>0,IF(F42<D36,"Minimal-Wert nicht erreicht",""),"") | K42: =IF(J42>"","Begründung angeben","")
J43: =IF(F43>0,IF(F43<D36,"Minimal-Wert nicht erreicht",""),"") | K43: =IF(J43>"","Begründung angeben","")
J44: =IF(F44>0,IF(F44<D36,"Minimal-Wert nicht erreicht",""),"") | K44: =IF(J44>"","Begründung angeben","")
D45: n/a | E45: Anzahl Befundungen der KTM total | F45: =SUM(F36:F44) -> 0 | J45: =IF(F45>0,IF(F45=F35,"","Summe Befundungen KTM "&IF(F35<F45,">","<")&" Anz. Befundungen insgesamt"),"") | K45: =IF(J45>"","Begründung angeben","")
A46: 6 | B46: Durch die Pathologie neu diagnostizierte Karzinome | C46: Pathologie: Anzahl von Befundungen neu diagnostizierter Karzinome | D46: n/a | E46: Anzahl der neu diagnostizierten Karzinome
D47: 125 | E47: Anzahl Befundungen neu diagnostizierter Karzinome pro KTM | J47: =IF(F47>0,IF(F47<D47,"Minimal-Wert nicht erreicht",""),"") | K47: =IF(J47>"","Begründung angeben","")
J48: =IF(F48>0,IF(F48<D47,"Minimal-Wert nicht erreicht",""),"") | K48: =IF(J48>"","Begründung angeben","")
J49: =IF(F49>0,IF(F49<D47,"Minimal-Wert nicht erreicht",""),"") | K49: =IF(J49>"","Begründung angeben","")
J50: =IF(F50>0,IF(F50<D47,"Minimal-Wert nicht erreicht",""),"") | K50: =IF(J50>"","Begründung angeben","")
J51: =IF(F51>0,IF(F51<D47,"Minimal-Wert nicht erreicht",""),"") | K51: =IF(J51>"","Begründung angeben","")
J52: =IF(F52>0,IF(F52<D47,"Minimal-Wert nicht erreicht",""),"") | K52: =IF(J52>"","Begründung angeben","")
J53: =IF(F53>0,IF(F53<D47,"Minimal-Wert nicht erreicht",""),"") | K53: =IF(J53>"","Begründung angeben","")
J54: =IF(F54>0,IF(F54<D47,"Minimal-Wert nicht erreicht",""),"") | K54: =IF(J54>"","Begründung angeben","")
J55: =IF(F55>0,IF(F55<D47,"Minimal-Wert nicht erreicht",""),"") | K55: =IF(J55>"","Begründung angeben","")
D56: n/a | E56: Anzahl Befundungen der KTM total | F56: =SUM(F47:F55) -> 0 | J56: =IF(F56>0,IF(F56=F46,"","Summe Befundungen KTM "&IF(F46<F56,">","<")&" Anz. Befundungen insgesamt"),"") | K56: =IF(J56>"","Begründung angeben","")
A57: 7 | B57: Durch die medizinische Onkologie durchgeführte Chemotherapiezyklen | C57: Onkologie: Anzahl Patientinnen mit onkologischer Systemtherapie im Brustzentrum | D57: 30 | E57: Anzahl aller Patientinnen mit onkologischer Systemtherapie im Brustzentrum | J57: =IF(F57>0,IF(F57<D57,"Minimal-Wert nicht erreicht",""),"") | K57: =IF(J57>"","Begründung angeben","")
D58: 30 | E58: Anzahl aller Patientinnen mit onkologischer Systemtherapie im Brustzentrum pro KTM 1 | J58: =IF(F58>0,IF(F58<D58,"Minimal-Wert nicht erreicht",""),"") | K58: =IF(J58>"","Begründung angeben","")
E59: Anzahl aller Patientinnen mit onkologischer Systemtherapie im Brustzentrum pro KTM 2 | J59: =IF(F59>0,IF(F59<D58,"Minimal-Wert nicht erreicht",""),"") | K59: =IF(J59>"","Begründung angeben","")
E60: Anzahl aller Patientinnen mit onkologischer Systemtherapie im Brustzentrum pro KTM 3 | J60: =IF(F60>0,IF(F60<D58,"Minimal-Wert nicht erreicht",""),"") | K60: =IF(J60>"","Begründung angeben","")
E61: Anzahl aller Patientinnen mit onkologischer Systemtherapie im Brustzentrum pro KTM 4 | J61: =IF(F61>0,IF(F61<D58,"Minimal-Wert nicht erreicht",""),"") | K61: =IF(J61>"","Begründung angeben","")
E62: Anzahl aller Patientinnen mit onkologischer Systemtherapie im Brustzentrum pro KTM 5 | J62: =IF(F62>0,IF(F62<D58,"Minimal-Wert nicht erreicht",""),"") | K62: =IF(J62>"","Begründung angeben","")
E63: Anzahl aller Patientinnen mit onkologischer Systemtherapie im Brustzentrum pro KTM 6 | J63: =IF(F63>0,IF(F63<D58,"Minimal-Wert nicht erreicht",""),"") | K63: =IF(J63>"","Begründung angeben","")
E64: Anzahl aller Patientinnen mit onkologischer Systemtherapie im Brustzentrum pro KTM 7 | J64: =IF(F64>0,IF(F64<D58,"Minimal-Wert nicht erreicht",""),"") | K64: =IF(J64>"","Begründung angeben","")
E65: Anzahl aller Patientinnen mit onkologischer Systemtherapie im Brustzentrum pro KTM 8 | J65: =IF(F65>0,IF(F65<D58,"Minimal-Wert nicht erreicht",""),"") | K65: =IF(J65>"","Begründung angeben","")
D66: n/a | E66: Anzahl aller Patientinnen mit onkologischer Systemtherapie im Brustzentrum der KTM total | F66: =SUM(F58:F65) -> 0 | J66: =IF(F66>0,IF(F66=F57,"","Summe Befundungen KTM "&IF(F57<F66,">","<")&" Anz. Befundungen insgesamt"),"") | K66: =IF(J66>"","Begründung angeben","")
A67: 8 | C67: Anzahl Patientinnen mit neoadjuvanter Systemtherapie im Brustzentrum | L67: KPI 8: manuelle Eingabe.
A68: 9 | B68: Mx-Befundungen Radiologie | C68: Radiologie: Anzahl Mammografie-Befundungen und Markierungen am Brustzentrum | D68: 1000 | E68: Anzahl Mammografien insgesamt | J68: =IF(F68>0,IF(F68<D68,"Minimal-Wert nicht erreicht",""),"") | K68: =IF(J68>"","Begründung angeben","")
D69: 1000 | E69: Anzahl Mammografie-Befundungen pro KTM | J69: =IF(F69>0,IF(F69<D69,"Minimal-Wert nicht erreicht",""),"") | K69: =IF(J69>"","Begründung angeben","")
J70: =IF(F70>0,IF(F70<D69,"Minimal-Wert nicht erreicht",""),"") | K70: =IF(J70>"","Begründung angeben","")
J71: =IF(F71>0,IF(F71<D69,"Minimal-Wert nicht erreicht",""),"") | K71: =IF(J71>"","Begründung angeben","")
J72: =IF(F72>0,IF(F72<D69,"Minimal-Wert nicht erreicht",""),"") | K72: =IF(J72>"","Begründung angeben","")
J73: =IF(F73>0,IF(F73<D69,"Minimal-Wert nicht erreicht",""),"") | K73: =IF(J73>"","Begründung angeben","")
J74: =IF(F74>0,IF(F74<D69,"Minimal-Wert nicht erreicht",""),"") | K74: =IF(J74>"","Begründung angeben","")
D75: n/a | E75: Anzahl Mammografie-Befundungen der KTM total | F75: =SUM(F69:F74) -> 0 | J75: =IF(F75>0,IF(F75=F68,"","Summe Mx KTM "&IF(F68<F75,">","<")&" Anz. MX insgesamt"),"") | K75: =IF(J75>"","Begründung angeben","")
A76: 10 | C76: Anzahl prä- oder intraoperativer Markierungsverfahren bei nicht palpablen Mammabefunden | D76: n/a | E76: Anzahl präoperativer Drahtmarkierungen
A77: 11 | C77: Anzahl intraoperative Präparate-Radio-/Sonographien | D77: n/a | E77: Anzahl intraoperative Präparate-Radio-/Sonographien
A78: 12 | C78: Radio-Onkologie: Anzahl der adjuvanten Radiotherapien der Brust bzw. Brustwand | D78: 100 | E78: Anzahl Radiotherapien total | J78: =IF(F78>0,IF(F78<D78,"Minimal-Wert nicht erreicht",""),"") | K78: =IF(J78>"","Begründung angeben","")
D79: 30 | E79: davon Anzahl Radiotherapien pro KTM | J79: =IF(F79>0,IF(F79<D79,"Minimal-Wert nicht erreicht",""),"") | K79: =IF(J79>"","Begründung angeben","")
J80: =IF(F80>0,IF(F80<D79,"Minimal-Wert nicht erreicht",""),"") | K80: =IF(J80>"","Begründung angeben","")
J81: =IF(F81>0,IF(F81<D79,"Minimal-Wert nicht erreicht",""),"") | K81: =IF(J81>"","Begründung angeben","")
J82: =IF(F82>0,IF(F82<D79,"Minimal-Wert nicht erreicht",""),"") | K82: =IF(J82>"","Begründung angeben","")
J83: =IF(F83>0,IF(F83<D79,"Minimal-Wert nicht erreicht",""),"") | K83: =IF(J83>"","Begründung angeben","")
D84: n/a | E84: Anzahl Radiotherapien der KTM total | F84: =SUM(F79:F83) -> 0 | J84: =IF(F84>0,IF(F84=F78,"","Summe Radiotherapien KTM "&IF(F78<F84,">","<")&" Anz. Radiotherapien insgesamt"),"") | K84: =IF(J84>"","Begründung angeben","")
A85: 13 | B85: In Studien eingebrachte Fälle | C85: Anzahl Patientinnen, die in Studien eingebracht werden | D85: 0.05 | E85: Anzahl Patientinnen | F85: =Studien!F11 -> 0 | G85: =F4 -> AA_Output:FilterSetting_ID=9027;Field=Anzahl | H85: =IF(G85=0,"",F85/G85) -> #VALUE! | J85: =IF(H85="","",IF(H85<$D$85,"Minimal-Wert nicht erreicht","")) -> #VALUE! | K85: =IF(J85>"","Begründung angeben","") -> #VALUE!
E86: davon Patientinnen in interventionellen Studien | F86: =Studien!H11 -> 0 | G86: =F85 -> 0 | H86: =IF(G86=0,"",F86/G86)
A87: 14 | C87: Anteil der intern abgeklärten Fälle, welchen innert 5 Arbeitstagen nach Biopsie die Diagnose mitgeteilt wurde, an der Gesamtzahl der intern erstabgeklärten Fälle | D87: 0.95 | E87: Anzahl Fälle max. 5 Arbeitstage | F87: AA_Output:FilterSetting_ID=9033;Field=Anzahl | G87: AA_Output:FilterSetting_ID=9034;Field=Total | H87: =IF(G87=0,"",F87/G87) -> #VALUE! | J87: =IF(H87="","",IF(H87<$D$87,"Minimal-Wert nicht erreicht","")) -> #VALUE! | K87: =IF(J87>"","Begründung angeben","") -> #VALUE!
A88: 15 | C88: Anteil intern abgeklärter invasiver Erstdiagnosen, bei denen der Therapiebeginn gemäss dem berechneten Feld BC_KPI15 innerhalb von 28 Kalendertagen erfolgte, an allen Fällen mit Biopsiedatum oder Datum der Information über den ersten diagnostischen Pathologiebefund; DCIS ausgeschlossen. | D88: 0.95 | E88: Anzahl Fälle mit Therapiebeginn innerhalb von 28 Kalendertagen (≈20 Arbeitstage) | F88: AA_Output:FilterSetting_ID=13901;Field=Total | G88: AA_Output:FilterSetting_ID=13900;Field=Total | H88: =IF(G88=0,"",F88/G88) -> #VALUE! | J88: =IF(H88="","",IF(H88<$D$88,"Minimal-Wert nicht erreicht","")) -> #VALUE! | K88: =IF(J88<>"","Begründung angeben","") -> #VALUE! | L88: Die technische Berechnung basiert auf BC_KPI15 und einem Zeitfenster von 28 Kalendertagen.
A90: 16a | C90: Anteil Fälle mit Besprechung am präoperativen Tumorboard an allen neuen Brustkrebsfällen. | D90: 1 | E90: Anzahl Fälle | F90: AA_Output:FilterSetting_ID=9059;Field=Total | G90: =F5 -> AA_Output:FilterSetting_ID=9028;Field=Total | H90: =IF(G90=0,"",F90/G90) -> #VALUE! | J90: =IF(H90="","",IF(H90<$D$90,"Minimal-Wert nicht erreicht","")) -> #VALUE! | K90: =IF(J90<>"","Begründung angeben","") -> #VALUE!
A91: 16b | C91: Anteil Fälle mit erneuter Besprechung am präoperativen Tumorboard nach neoadjuvanter onkologischer Systemtherapie an allen Fällen, die nach neoadjuvantem Therapiekonzept behandelt wurden. | D91: 1 | E91: Anzahl Fälle | F91: AA_Output:FilterSetting_ID=13903;Field=Total | G91: AA_Output:FilterSetting_ID=13902;Field=Total | H91: =IF(G91=0,"",F91/G91) -> #VALUE! | J91: =IF(ISNUMBER(H91),IF(H91<$D$91,"Minimal-Wert nicht erreicht",""),"") -> #VALUE! | K91: =IF(J91>"","Begründung angeben","") -> #VALUE! | L91: Nenner: 13902. KPI 8 manuell.
A92: 17 | C92: Anteil Fälle mit Besprechung am postoperativen Tumorboard an allen neuen Brustkrebsfällen | D92: 1 | E92: Anzahl Fälle | F92: AA_Output:FilterSetting_ID=9060;Field=Anzahl | G92: =F9 -> AA_Output:FilterSetting_ID=915;Field=Anzahl;Code=1 | H92: =IF(G92=0,"",F92/G92) -> #VALUE! | J92: =IF(H92="","",IF(H92<$D$92,"Minimal-Wert nicht erreicht","")) -> #VALUE! | K92: =IF(J92>"","Begründung angeben","") -> #VALUE!
A93: 18a | C93: Anteil onkologische Reoperationen an der Gesamtzahl der Primäroperationen | D93: 0.2 | E93: Anzahl onkologische Reoperationen | F93: AA_Output:FilterSetting_ID=9061;Field=Anzahl | G93: =F9 -> AA_Output:FilterSetting_ID=915;Field=Anzahl;Code=1 | H93: =IF(G93=0,"",F93/G93) -> #VALUE! | J93: =IF(H93="","",IF(H93>=$D$93,"Wert ≥20%","")) -> #VALUE! | K93: =IF(J93>"","Wert bitte überprüfen","") -> #VALUE!
A94: 18b | C94: Anteil nicht-onkologischer Reoperationen nach onkologischer Primär-Operation (DCIS und invasive Karzinome) mit und ohne plastisch-rekonstruktivem Eingriff | D94: 0.1 | E94: Anzahl nicht-onkologische Reoperationen | F94: AA_Output:FilterSetting_ID=9062;Field=Anzahl | G94: =F9 -> AA_Output:FilterSetting_ID=915;Field=Anzahl;Code=1 | H94: =IF(G94=0,"",F94/G94) -> #VALUE! | J94: =IF(H94="","",IF(H94>=$D$94,"Wert ≥10%","")) -> #VALUE! | K94: =IF(J94>"","Wert bitte überprüfen","") -> #VALUE!
A95: 19 | C95: Anteil R0 / R1-Resektionen bei Fällen mit invasivem Tumor nach Abschluss der chirurgischen Primärbehandlung (ohne DCIS) | D95: n/a | E95: Anzahl invasive Fälle (ohne DCIS) | F95: AA_Output:FilterSetting_ID=9064;Field=Total | G95: =F9 -> AA_Output:FilterSetting_ID=915;Field=Anzahl;Code=1 | H95: =IF(G95=0,"",F95/G95) -> #VALUE! | J95: =IF(OR(F95="",F4=""),"",IF(F95>F4,"Anz. invasive Fälle > Anz. neue Fälle","")) -> Anz. invasive Fälle > Anz. neue Fälle | K95: =IF(J95>"","Begründung angeben","") -> Begründung angeben
D96: 0.95 | E96: Anzahl R0-Resektionen | F96: AA_Output:FilterSetting_ID=9065;Field=Total | G96: =IF(ISBLANK(F95),"",F95) -> AA_Output:FilterSetting_ID=9064;Field=Total | H96: =IF(ISBLANK(F96),"",F96/G96) -> #VALUE! | J96: =IF(H96="","",IF(H96<$D$96,"Minimal-Wert nicht erreicht","")) -> #VALUE! | K96: =IF(J96>"","Begründung angeben","") -> #VALUE!
D97: n/a | E97: Anzahl R1-Resektionen | F97: AA_Output:FilterSetting_ID=9066;Field=Total | G97: =IF(ISBLANK(F95),"",F95) -> AA_Output:FilterSetting_ID=9064;Field=Total | H97: =IF(ISBLANK(F97),"",F97/G97) -> #VALUE!
D98: n/a | E98: Anzahl übrige | F98: =F95-F96-F97 -> #VALUE! | G98: =F95 -> AA_Output:FilterSetting_ID=9064;Field=Total | H98: =IF(G98=0,"",F98/G98) -> #VALUE! | K98: =IF(J98>"","Begründung angeben","")
A99: 20a | B99: Dokumentation der brusterhaltenden Operationen | C99: Anteil der brusterhaltenden Operationen an allen Operationen, unter Berücksichtigung der Tumorgrösse | D99: n/a | E99: Anzahl brusterhaltende Op bei Tis | F99: AA_Output:FilterSetting_ID=9070;Field=Anzahl | G99: AA_Output:FilterSetting_ID=9072;Field=Anzahl | H99: =IF(G99=0,"",F99/G99) -> #VALUE! | K99: =IF(J99>"","Begründung angeben","")
D100: 70-90% | E100: T1 (exkl. EIC; Fehlen einer DCIS-Komponente als Proxy) | F100: AA_Output:FilterSetting_ID=13905;Field=Total | G100: AA_Output:FilterSetting_ID=13904;Field=Total | H100: =IF(G100=0,"",F100/G100) -> #VALUE! | J100: =IF(H100="","",IF(OR(H100>0.9,H100<0.7),"nicht Guideline konform!","")) -> #VALUE! | K100: =IF(J100>"","Begründung angeben","") -> #VALUE! | L100: Das Fehlen einer DCIS-Komponente wird als Proxy für das Fehlen einer EIC verwendet.
D101: n/a | E101: T2 | F101: AA_Output:FilterSetting_ID=9074;Field=Anzahl | G101: AA_Output:FilterSetting_ID=9075;Field=Anzahl | H101: =IF(G101=0,"",F101/G101) -> #VALUE! | K101: =IF(J101>"","Begründung angeben","")
D102: n/a | E102: T3 | F102: AA_Output:FilterSetting_ID=9076;Field=Anzahl | G102: AA_Output:FilterSetting_ID=9077;Field=Anzahl | H102: =IF(G102=0,"",F102/G102) -> #VALUE! | K102: =IF(J102>"","Begründung angeben","")
...

Sheet Studien
A1: Bezeichnung | B1: Studientyp (interventionell oder andere) | C1: Titel | D1: Datum Ethikvotum | E1: Status | F1: Anzahl Patienten | G1: Protokoll | H1: Interventionell
B2: bitte wählen | H2: =IF(B2="interventionell",+F2,0) -> 0
B3: bitte wählen | H3: =IF(B3="interventionell",+F3,0) -> 0
B4: bitte wählen | H4: =IF(B4="interventionell",+F4,0) -> 0
B5: bitte wählen | H5: =IF(B5="interventionell",+F5,0) -> 0
B6: bitte wählen | H6: =IF(B6="interventionell",+F6,0) -> 0
B7: bitte wählen | H7: =IF(B7="interventionell",+F7,0) -> 0
B8: bitte wählen | H8: =IF(B8="interventionell",+F8,0) -> 0
B9: bitte wählen | H9: =IF(B9="interventionell",+F9,0) -> 0
B10: bitte wählen | H10: =IF(B10="interventionell",+F10,0) -> 0
B11: bitte wählen | E11: Total | F11: =SUM(F2:F10) -> 0 | H11: =SUM(H2:H10) -> 0
A13: Beispiel
A14: Roche SafeHer M028048 | B14: interventionell | C14: Prospektive, nicht randomisierte Phase III Studie zur Bewertung der Sicherheit von subkutanem Herceptin | D14: 40997 | E14: offen | F14: 20 | G14: Link | H14: =IF(B14="interventionell",+F14,0) -> 20
A90: Studientyp
A91: bitte wählen
A92: interventionell
A93: andere
B100: bitte wählen

Sheet Anzahl Eingriffe pro KTM
A1: [Adj] 3. Anzahl Eingriffe pro KTM [14]
A3: AA_Output:FilterSetting_ID=9032

Sheet 1a benigne Fälle
A1: Dashboard Kennzahl Nr. 1a
B22: AA_Output:FilterSetting_ID=4327

Sheet 4 Fälle prüfen
A1: Kennzahl 4 – zu prüfende BI-RADS-≥3-Fälle
A2: Die nachfolgenden Listen zeigen Nennerfälle, die nicht im Zähler enthalten sind, gegliedert nach dem hauptsächlichen Grund. Hellgraue Felder in Adjumed können für den Fallabschluss optional sein, bleiben für diese Kennzahl aber relevant.
A6: A. Biopsie/bioptische Sicherung nicht dokumentiert | J6: B. Technik fehlt oder ist nicht konform | S6: C. Chronologie nicht konform
A7: Operierte BI-RADS-3–5-Fälle, bei denen weder «Biopsie durchgeführt» noch «Diagnose bioptisch gesichert» mit «ja» dokumentiert ist. | J7: Fälle mit dokumentierter Biopsie/bioptischer Sicherung, aber ohne Technik «Stanzbiopsie» oder «Vakuum-assistiert». | S7: Fälle mit gültiger Biopsie und Technik, bei denen das Biopsiedatum nicht vor dem Datum der ersten Operation liegt.
A14: AA_Output:FilterSetting_ID=14037 | J14: AA_Output:FilterSetting_ID=14038 | S14: AA_Output:FilterSetting_ID=14039

Sheet 2 Fälle ohne KTM
A1: Dashboard Kennzahl Nr. 2
B12: AA_Output:FilterSetting_ID=4560

Sheet 14 Zeitdifferenz >5 Tage
A1: Dashboard Kennzahl Nr. 14 (alt 10)
C19: AA_Output:FilterSetting_ID=9202 | K19: AA_Output:FilterSetting_ID=11020

Sheet 15 Fälle ausser Frist
A1: Kennzahl 15 – Fälle ausserhalb der Frist
B3: Die nachfolgenden Fälle gehören zum Nenner der Kennzahl 15, werden aber nicht im Zähler berücksichtigt, weil BC_KPI15 = 0. Der Filter umfasst nur intern abgeklärte invasive Erstdiagnosen (DCIS ausgeschlossen) mit Biopsiedatum oder Datum der Information über den ersten diagnostischen Pathologiebefund. Technisch wird ein Zeitfenster von 28 Kalendertagen (≈20 Arbeitstage) bis zum Beginn der ersten Operation, der neoadjuvanten Chemotherapie, der Antihormontherapie als erster Therapie oder der neoadjuvanten Immuntherapie verwendet.
C19: AA_Output:FilterSetting_ID=14040

Sheet 16a Fälle ohne präth. Board
A1: Dashboard Kennzahl Nr. 16a (alt 12)
B15: AA_Output:FilterSetting_ID=9205

Sheet 16b ohne erneutes Tumorboard
A1: Kennzahl 16b – Fälle ohne erneute Tumorboard-Besprechung
B3: Die nachfolgenden Fälle erhielten eine vom Filter als neoadjuvant gewertete Therapie, werden aber nicht im Zähler berücksichtigt, weil BC_KPI16b = 0. Für die Konformität muss das Datum der letzten präoperativen Tumorkonferenz erfasst sein und nach dem Beginn der betreffenden Therapie liegen. Der Nenner umfasst neoadjuvante Chemotherapie, neoadjuvante Immuncheckpoint-Inhibitoren-Therapie und RT01 = «ja»; dieses Feld umfasst eine Antihormontherapie als erste Therapie neoadjuvant oder palliativ.
C18: AA_Output:FilterSetting_ID=14041

Sheet 17 Fälle ohne postth. Board
A1: Dashboard Kennzahl Nr. 17 (alt 13)
B15: AA_Output:FilterSetting_ID=9206

Sheet 18 Reoperationen
A1: 18a | I1: 18b | Q1: 18c (alt 14c)
A16: AA_Output:FilterSetting_ID=13806 | I16: AA_Output:FilterSetting_ID=13807 | Q16: AA_Output:FilterSetting_ID=13808

Sheet 19 Resektionen
A1: 19 - invasive ohne DCIS | I1: 19 - R0 | Q1: 19 - R1
A11: AA_Output:FilterSetting_ID=13809 | I11: AA_Output:FilterSetting_ID=13810 | Q11: AA_Output:FilterSetting_ID=13811

Sheet 20a brusterhaltende OPs
A1: 20a Tis | I1: 20a T1 exkl. EIC | Q1: 20a T2 | Y1: 20a T3 | AG1: 20a T4 | AO1: 20a TX | AW1: 20a T0
A12: AA_Output:FilterSetting_ID=13797 | I12: AA_Output:FilterSetting_ID=14042 | Q12: AA_Output:FilterSetting_ID=13799 | Y12: AA_Output:FilterSetting_ID=13796 | AG12: AA_Output:FilterSetting_ID=13800 | AO12: AA_Output:FilterSetting_ID=13801 | AW12: AA_Output:FilterSetting_ID=13802

Sheet 20b Mastektomien
A1: 20b - Mastektomien
A12: AA_Output:FilterSetting_ID=13805

Sheet 21 DCIS-LK
A1: 21 – Anteil brusterhaltend operierter DCIS-Fälle mit LK-Entfernung
A13: AA_Output:FilterSetting_ID=13907

Sheet Filtersettings
A1: Filtersettings – im Bericht tatsächlich referenzierte AA_Output-Filter
A2: Quelle: FilterSetting_202607071110.csv, ergänzt um die Negativfilter 2027 (IDs 14037–14042). Eine ID kann mehrfach erscheinen, wenn sie an mehreren Stellen verwendet wird. Die frühere Verdrahtungstabelle wurde entfernt.
A3: Bereich | B3: KPI | C3: Kennzahl / Kontext | D3: Rolle | E3: FilterSetting_ID | F3: Name / Beschreibung (CSV) | G3: Ausgabe / Feld | H3: Zeitraum | I3: Filterfelder | J3: Filterlogik
A4: Dashboard | B4: 1a | C4: Anzahl neue Brustkrebsfälle (Tumore / Rezidive) – Anzahl Patientinnen | D4: Anzahl/Zählwert | E4: 9027 | F4: SBCDB QDB 1a Anzahl neue Brustkrebsfälle - Anzahl Patientinnen Alle Patientinnen, welche im betreffenden Jahr für eine Brustkrebsbehandlung erfasst worden sind | G4: KL · Brustzentrum_KL.KL_2426 Export to AdjumedAnalyze | H4: KL_363 – Eintrittsdatum | I4: [KL_500] EUSOMA / DKG / SBCDB Fall? (für Selektion/Export) | J4: [KL_500] EUSOMA / DKG / SBCDB Fall? (für Selektion/Export) = True
A5: Dashboard | B5: 1a | C5: Anzahl neue Brustkrebsfälle (Tumore / Rezidive) – Anzahl neue Brustkrebsfälle | D5: Anzahl/Zählwert | E5: 9028 | F5: SBCDB QDB 1a Anzahl neue Brustkrebsfälle - Anzahl neue Brustkrebsfälle Alle Fälle, welche im betreffenden Jahr für eine Brustkrebsbehandlung erfasst worden sind | G5: OP · Brustzentrum_OP.OP_1084 N00: Patientin operiert | H5: KL_363 – Eintrittsdatum | I5: [KL_500] EUSOMA / DKG / SBCDB Fall? (für Selektion/Export) | J5: [KL_500] EUSOMA / DKG / SBCDB Fall? (für Selektion/Export) = True
A6: Dashboard | B6: 1a | C6: Anzahl neue Brustkrebsfälle (Tumore / Rezidive) – davon Rezidive | D6: Anzahl/Zählwert | E6: 9029 | F6: SBCDB QDB 1a Anzahl neue Brustkrebsfälle - Rezidive Zähler Alle neuen, rezidiven Brustkrebsfälle, welche im betreffenden Jahr für eine Brustkrebsbehandlung erfasst worden sind | G6: OP · Brustzentrum_OP.OP_144 Rezidiv? | H6: KL_363 – Eintrittsdatum | I6: [KL_500] EUSOMA / DKG / SBCDB Fall? (für Selektion/Export) [OP_144] Rezidiv? | J6: [KL_500] EUSOMA / DKG / SBCDB Fall? (für Selektion/Export) = True UND [OP_144] Rezidiv? ja [1]
A7: Dashboard | B7: 1a | C7: Anzahl neue Brustkrebsfälle (Tumore / Rezidive) – davon intern abgeklärte Fälle | D7: Anzahl/Zählwert | E7: 9030 | F7: SBCDB QDB 1a Anzahl neue Brustkrebsfälle - intern abgeklärte Fälle Alle intern abgeklärten Fälle, welche im betreffenden Jahr für eine Brustkrebsbehandlung erfasst worden sind | G7: OP · Brustzentrum_KL.KL_2843 Abklärung Extern | H7: KL_363 – Eintrittsdatum | I7: [KL_500] EUSOMA / DKG / SBCDB Fall? (für Selektion/Export) [KL_2843] Abklärung Extern | J7: [KL_500] EUSOMA / DKG / SBCDB Fall? (für Selektion/Export) enthält True UND [KL_2843] Abklärung Extern = Leereintrag oder = False
A8: Dashboard | B8: 1b | C8: Anzahl operierte Erstkarzinome / Rezidive – Anzahl der Primäroperationen von neuen Brustkrebsfällen | D8: Anzahl/Zählwert | E8: 915 | F8: [Adj] BC Dash 2. Anz. im Brustzentr. op.nicht op. Erstkarzinome Rezidive Dahsboardkennzahl 1a: Anzahl neue Brustkrebsfälle | G8: OP · Brustzentrum_OP.OP_1084 N00: Patientin operiert | H8: KL_363 – Eintrittsdatum | I8: [KL_500] EUSOMA / DKG / SBCDB Fall? (für Selektion/Export) | J8: [KL_500] EUSOMA / DKG / SBCDB Fall? (für Selektion/Export) = True
A9: Dashboard | B9: 4 | C9: Anteil Fälle, bei welchen Brusttumore vor der Exzision ab BI-RADS 3 vorgängig mittels Stanzbiopsie gesichert wurden. – Anzahl BIRADS ≥3 Befunde mit vorgängiger Biopsie | D9: Nenner | E9: 13894 | F9: Kennzahl_4_Nenner_2026 Nenner KPI 4: erster Befund, operiert, BI-RADS 3/4/5. | G9: OP · Brustzentrum_OP.OP_6e_BZ | H9: KL_363 – Eintrittsdatum | I9: [KL_500] EUSOMA / DKG / SBCDB Fall? (für Selektion/Export) [OP_1000] Befund im Leben der Patientin [OP_1084] N00: Patientin operiert [OP_6e_BZ] 6e. BIRADS-Klassifikation | J9: [KL_500] EUSOMA / DKG / SBCDB Fall? (für Selektion/Export) ja [True] UND [OP_1000] Befund im Leben der Patientin = 1 UND [OP_1084] N00: Patientin operiert = 1 oder = 2 UND [OP_6e_BZ] 6e. BIRADS-Klassifikation = 3 oder = 4 oder = 5
A10: Dashboard | B10: 4 | C10: Anteil Fälle, bei welchen Brusttumore vor der Exzision ab BI-RADS 3 vorgängig mittels Stanzbiopsie gesichert wurden. – Anzahl BIRADS ≥3 Befunde mit vorgängiger Biopsie | D10: Zähler | E10: 13895 | F10: Kennzahl_4_Zähler_2026 Zähler KPI 4: Nenner, Biopsie/bioptische Sicherung, Technik Stanz/Vakuum, Biopsie vor OP über BC_KPI04. | G10: OP · Brustzentrum_OP.OP_BC_KPI04 | H10: KL_363 – Eintrittsdatum | I10: [KL_500] EUSOMA / DKG / SBCDB Fall? (für Selektion/Export) [OP_1000] Befund im Leben der Patientin [OP_1084] N00: Patientin operiert [OP_6e_BZ] 6e. BIRADS-Klassifikation [OP_7420] Biopsie durchgeführt [OP_3610] Diagnose bioptisch gesichert (ja/nein) [OP_1054] D12: Technik der Biopsie [OP_BC_KPI04] BC_KPI04: Biopsiedatum vor 1. OP (berechnet) | J10: [KL_500] EUSOMA / DKG / SBCDB Fall? (für Selektion/Export) ja [True] UND [OP_1000] Befund im Leben der Patientin = 1 UND [OP_1084] N00: Patientin operiert = 1 oder = 2 UND [OP_6e_BZ] 6e. BIRADS-Klassifikation = 3 oder = 4 oder = 5 UND ([OP_7420] Biopsie durchgeführt = 1 ODER [OP_3610] Diagnose bioptisch gesichert (ja/nein) = 1) UND [OP_1054] D12: Technik der Biopsie = 1 oder = 2 UND [OP_BC_KPI04] BC_KPI04: Biopsiedatum vor 1. OP (berechnet) = 1
A11: Dashboard | B11: 14 | C11: Anteil der intern abgeklärten Fälle, welchen innert 5 Arbeitstagen nach Biopsie die Diagnose mitgeteilt wurde, an der Gesamtzahl der intern erstabgeklärten Fälle – Anzahl Fälle max. 5 Arbeitstage | D11: Zähler | E11: 9033 | F11: SBCDB QDB 10 Pathologie max. 5 Tage nach Biopsie intern Zähler Anteil der intern abgeklärten Fälle, welchen innert 5 Arbeitstagen nach Biopsie die Diagnose mitgeteilt wurde | G11: OP · Brustzentrum_OP.OP_1084 N00: Patientin operiert | H11: KL_363 – Eintrittsdatum | I11: [KL_500] EUSOMA / DKG / SBCDB Fall? (für Selektion/Export) [OP_2839] Zeitdifferenz D10A und D10I (13b) (berechnet) [OP_7420] Biopsie durchgeführt [KL_2843] Abklärung Extern | J11: [KL_500] EUSOMA / DKG / SBCDB Fall? (für Selektion/Export) = True UND ([OP_2839] Zeitdifferenz D10A und D10I (13b) (berechnet) < 6 ODER [OP_7420] Biopsie durchgeführt nein [0] oder Ablehnung durch Patientin [2]) UND [OP_2839] Zeitdifferenz D10A und D10I (13b) (berechnet) = Leereintrag UND [KL_2843] Abklärung Extern = Leereintrag oder = False
A12: Dashboard | B12: 14 | C12: Anteil der intern abgeklärten Fälle, welchen innert 5 Arbeitstagen nach Biopsie die Diagnose mitgeteilt wurde, an der Gesamtzahl der intern erstabgeklärten Fälle – Anzahl Fälle max. 5 Arbeitstage | D12: Nenner | E12: 9034 | F12: SBCDB QDB 10 Pathologie max. 5 Tage nach Biopsie intern Nenner Anteil aller intern abgeklärter Fälle mit einer durchgeführten Biopsie | G12: OP · Brustzentrum_OP.OP_1084 N00: Patientin operiert | H12: KL_363 – Eintrittsdatum | I12: [KL_500] EUSOMA / DKG / SBCDB Fall? (für Selektion/Export) [KL_2843] Abklärung Extern | J12: [KL_500] EUSOMA / DKG / SBCDB Fall? (für Selektion/Export) enthält True UND [KL_2843] Abklärung Extern = Leereintrag oder = False
A13: Dashboard | B13: 15 | C13: Anteil intern abgeklärter invasiver Erstdiagnosen, bei denen der Therapiebeginn gemäss BC_KPI15 innerhalb von 28 Kalendertagen erfolgte, an allen Fällen mit Biopsiedatum oder Datum der Information über den ersten diagnostischen Pathologiebefund; DCIS ausgeschlossen | D13: Nenner | E13: 13900 | F13: Kennzahl_15_Nenner_2026 Nenner KPI 15: erster Befund, intern abgeklärt, invasiv, Indexdatum vorhanden. | G13: OP · Brustzentrum_OP.OP_1000 Befund im Leben der Patientin | H13: KL_363 – Eintrittsdatum | I13: [KL_500] EUSOMA / DKG / SBCDB Fall? (für Selektion/Export) [OP_1000] Befund im Leben der Patientin [KL_2843] Abklärung Extern [OP_1048] D10: Invasion (Typ) [OP_1180] I01: Hauptdiagnose [OP_1051] D10A: Datum der Biopsie [OP_2605] D10i: Datum, wann die Patientin über den ersten diagnostischen Pathologiebefund (= Frage Krebs ja/nein?) informiert wurde | J13: [KL_500] EUSOMA / DKG / SBCDB Fall? (für Selektion/Export) ja [True] UND [OP_1000] Befund im Leben der Patientin = 1 UND [KL_2843] Abklärung Extern = Leereintrag oder = False UND ([OP_1048] D10: Invasion (Typ) = 2 ODER [OP_1180] I01: Hauptdiagnose = 4) UND ([OP_1051] D10A: Datum der Biopsie > 01.01.1900 ODER [OP_2605] D10i: Datum, wann die Patientin über den ersten diagnostischen Pathologiebefund (= Frage Krebs ja/nein?) informiert wurde > 01.01.1900)
A14: Dashboard | B14: 15 | C14: Anteil intern abgeklärter invasiver Erstdiagnosen, bei denen der Therapiebeginn gemäss BC_KPI15 innerhalb von 28 Kalendertagen erfolgte, an allen Fällen mit Biopsiedatum oder Datum der Information über den ersten diagnostischen Pathologiebefund; DCIS ausgeschlossen | D14: Zähler | E14: 13901 | F14: Kennzahl_15_Zähler_2026 Zähler KPI 15: Nenner KPI15 plus berechnetes BC_KPI15=1. | G14: OP · Brustzentrum_OP.OP_BC_KPI15 | H14: KL_363 – Eintrittsdatum | I14: [KL_500] EUSOMA / DKG / SBCDB Fall? (für Selektion/Export) [OP_1000] Befund im Leben der Patientin [KL_2843] Abklärung Extern [OP_1048] D10: Invasion (Typ) [OP_1180] I01: Hauptdiagnose [OP_1051] D10A: Datum der Biopsie [OP_2605] D10i: Datum, wann die Patientin über den ersten diagnostischen Pathologiebefund (= Frage Krebs ja/nein?) informiert wurde [OP_BC_KPI15] BC_KPI15: Therapiebeginn innert 28 Kalendertagen (berechnet) | J14: [KL_500] EUSOMA / DKG / SBCDB Fall? (für Selektion/Export) ja [True] UND [OP_1000] Befund im Leben der Patientin = 1 UND [KL_2843] Abklärung Extern = Leereintrag oder = False UND ([OP_1048] D10: Invasion (Typ) = 2 ODER [OP_1180] I01: Hauptdiagnose = 4) UND ([OP_1051] D10A: Datum der Biopsie > 01.01.1900 ODER [OP_2605] D10i: Datum, wann die Patientin über den ersten diagnostischen Pathologiebefund (= Frage Krebs ja/nein?) informiert wurde > 01.01.1900) UND [OP_BC_KPI15] BC_KPI15: Therapiebeginn innert 28 Kalendertagen (berechnet) = 1
A15: Dashboard | B15: 16a | C15: Anteil Fälle mit Besprechung am präoperativen Tumorboard an allen neuen Brustkrebsfällen. – Anzahl Fälle | D15: Anzahl/Zählwert | E15: 9059 | F15: SBCDB QDB 12 Anteil Fälle mit präoperativem Tumorboard Zähler Anteil Fälle mit Besprechung am präoperativen Tumorboard an allen neuen Brustkrebsfällen | G15: OP · Brustzentrum_OP.OP_1084 N00: Patientin operiert | H15: KL_363 – Eintrittsdatum | I15: [KL_500] EUSOMA / DKG / SBCDB Fall? (für Selektion/Export) [OP_1078] D23: Datum der ersten prätherapeutischen Tumorkonferenz | J15: [KL_500] EUSOMA / DKG / SBCDB Fall? (für Selektion/Export) = True UND [OP_1078] D23: Datum der ersten prätherapeutischen Tumorkonferenz > 01.01.1900
... A67: Negativ-/Detailtab | B67: 21 | C67: 21 DCIS-LK – Fälle des Zählers zur Kontrolle | D67: Negativ-/Auffälligkeitsfilter | E67: 13907 | F67: Kennzahl_21_Zähler_2026 Der Zähler bildet hier die zu kontrollierende Fallliste, da ein hoher Wert ungünstig und der Zielwert <5 % ist. | G67: OP · Brustzentrum_OP.OP_1159 G01: Axilla-Chirurgie (inkl. TAD/TAS) | H67: KL_363 – Eintrittsdatum | I67: [KL_500] EUSOMA / DKG / SBCDB Fall? (für Selektion/Export) [OP_1180] I01: Hauptdiagnose [OP_1048] D10: Invasion (Typ) [OP_1093] E08: Art der ersten onkologischen Brustoperation [OP_1147] P01: Sentinelnodektomie [OP_1159] G01: Axilla-Chirurgie (inkl. TAD/TAS) | J67: [KL_500] EUSOMA / DKG / SBCDB Fall? (für Selektion/Export) ja [True] UND ([OP_1180] I01: Hauptdiagnose = 2 ODER [OP_1048] D10: Invasion (Typ) = 1) UND [OP_1093] E08: Art der ersten onkologischen Brustoperation = 10 UND ([OP_1147] P01: Sentinelnodektomie = 2 oder = 3 ODER [OP_1159] G01: Axilla-Chirurgie (inkl. TAD/TAS) = 1)
A68: Parameter | B68: Parameter | C68: Kliniknummer – AA_Output:FilterSetting_ID=6512 | D68: Parameter/Kliniknummer | E68: 6512 | F68: [cv] SBCDB - Kliniknummer | G68: KL · Brustzentrum_KL.KlinikNummer Klinik-Nummer | H68: KL_363 – Eintrittsdatum

Sheet Erfassungshinweise 2027
A1: Erfassungshinweise – neue und angepasste Kennzahlen 2027
A2: Ein in Adjumed hellgrau dargestelltes Feld kann für den Fallabschluss optional sein und dennoch für das Dashboard entscheidend sein. Die Antworten müssen die tatsächliche Situation wiedergeben; die berechneten Felder BC_KPI04, BC_KPI15 und BC_KPI16b werden automatisch befüllt und dürfen nicht manuell erfasst werden.
A6: Kennzahl | B6: Was gezählt wird | C6: Nicht vergessen | D6: Interpretation / Hinweis | E6: Typ
A7: 4 | B7: Operierte Erstdiagnosen mit BI-RADS 3, 4 oder 5; konform bei dokumentierter Biopsie/bioptischer Sicherung, Technik Stanzbiopsie oder Vakuum-assistiert und Biopsie vor der ersten Operation. | C7: Erstdiagnose; Patientin operiert; BI-RADS; Biopsie durchgeführt oder Diagnose bioptisch gesichert; Technik; Biopsiedatum; Datum der ersten Operation. | D7: Zielwert strikt >98 %. Nicht pauschal «ja» angeben, sondern nur tatsächlich dokumentierte Sachverhalte. | E7: Anteil
A8: 15 | B8: Intern abgeklärte invasive Erstdiagnosen ohne DCIS und mit vorhandenem Indexdatum; Konformität bei BC_KPI15 = 1. | C8: Externe Abklärung; invasiv/in situ; Biopsiedatum oder Datum der Information über den ersten Befund; Startdaten der ersten Operation, neoadjuvanten Chemotherapie, Antihormontherapie als erster Therapie oder neoadjuvanten Immuntherapie. | D8: Technisch werden 28 Kalendertage als Näherung für 20 Arbeitstage verwendet. | E8: Anteil
A9: 16b | B9: Neoadjuvant behandelte Fälle gemäss Filter 13902; konform bei erneuter präoperativer Tumorboard-Besprechung nach Therapiebeginn. Kennzahl 8 wird separat manuell eingegeben. | C9: Neoadjuvante Therapie; Startdatum; Datum der letzten präoperativen Tumorkonferenz. | D9: Eine Besprechung nur vor Therapiebeginn genügt nicht. RT01 = «ja» ist gemäss aktuellem Filter eingeschlossen. | E9: Anteil
A10: 20a T1 | B10: Operierte T1/T1a/T1b/T1c-Fälle ohne DCIS-Komponente; im Zähler nur brusterhaltende erste Operationen. | C10: Patientin operiert; cT oder pT; An-/Abwesenheit einer DCIS-Komponente; Art der ersten Operation. | D10: Das Fehlen einer DCIS-Komponente dient als Proxy für das Fehlen einer EIC. | E10: Anteil
A11: 21 | B11: Brusterhaltend operierte DCIS-/in-situ-Fälle; der Zähler enthält Fälle mit Sentinelnodektomie oder Axilla-Chirurgie. | C11: Hauptdiagnose/Invasionstyp; erste Operation; Sentinelnodektomie; Axilla-Chirurgie. | D11: Ein hoher Wert ist ungünstig; Zielwert strikt <5 %. | E11: Anteil

Sheet Kliniknummer
A1: AA_Output:FilterSetting_ID=6512
